BEGIN:VCALENDAR
VERSION:2.0
PRODID:-//eventon.com NONSGML v1.0//EN
BEGIN:VEVENT
UID:69ec03e8eee99
DTSTAMP:20260424T195936
DTSTART:20231020T150000Z
DTEND:20231020T170000Z
TZID:America/New_York
LOCATION:Gas South District 
SUMMARY:15th Annual Environmental Address: Featuring Governor Brian Kemp
DESCRIPTION: Click the button below to purchase your sponsorship and/or individual ticket ($100/seat). PURCHASE TICKET Sponsorship Opportunities Presenting Sponsor : Primerica Platinum Steward $5\, 000 One seat at the Governor’s table Table of 8 with premium seating Distribute approved promotional materials at each table Verbal recognition during the event Logo recognition in[..]\nhttps://gwinnettcb.org/events/15th-annual-environmental-address-featuring-governor-brian-kemp/
URL:https://gwinnettcb.org/events/15th-annual-environmental-address-featuring-governor-brian-kemp/
END:VEVENT
END:VCALENDAR